BEGIN:VCALENDAR
VERSION:2.0
PRODID:spatie/icalendar-generator
DESCRIPTION:Events from Discovery Elementary PTO
X-WR-CALDESC:Events from Discovery Elementary PTO
REFRESH-INTERVAL;VALUE=DURATION:PT1440M
X-PUBLISHED-TTL:PT1440M
BEGIN:VTIMEZONE
TZID:America/Los_Angeles
BEGIN:STANDARD
DTSTART:20241103T020000Z
TZOFFSETFROM:-0700
TZOFFSETTO:-0800
END:STANDARD
BEGIN:DAYLIGHT
DTSTART:20250309T020000Z
TZOFFSETFROM:-0800
TZOFFSETTO:-0700
END:DAYLIGHT
BEGIN:STANDARD
DTSTART:20251102T020000Z
TZOFFSETFROM:-0700
TZOFFSETTO:-0800
END:STANDARD
END:VTIMEZONE
BEGIN:VTIMEZONE
TZID:UTC
BEGIN:STANDARD
DTSTART:20250727T093011Z
TZOFFSETFROM:+0000
TZOFFSETTO:+0000
END:STANDARD
END:VTIMEZONE
BEGIN:VEVENT
UID:97-88
DTSTAMP:20260423T093011Z
SUMMARY:Field Day (Kinder)
LOCATION:Discovery Elementary School 730 Applewilde Dr  San Marcos CA 92078
ORGANIZER;CN=Nicole Collins:MAILTO:Nicole.collins@discoverypto.com
DTSTART;TZID=America/Los_Angeles;VALUE=DATE:20250609
DTEND;TZID=America/Los_Angeles;VALUE=DATE:20250610
X-ALT-DESC;FMTTYPE=TEXT/HTML:
CATEGORIES:Special Events
URL;VALUE=URI:https://www.discoverypto.com/mc-events/field-day-kinder/?mc_i
 d=97
END:VEVENT
END:VCALENDAR