BEGIN:VCALENDAR
VERSION:2.0
PRODID:spatie/icalendar-generator
DESCRIPTION:Events from Discovery Elementary PTO
X-WR-CALDESC:Events from Discovery Elementary PTO
REFRESH-INTERVAL;VALUE=DURATION:PT1440M
X-PUBLISHED-TTL:PT1440M
BEGIN:VTIMEZONE
TZID:America/Los_Angeles
BEGIN:STANDARD
DTSTART:20241103T020000Z
TZOFFSETFROM:-0700
TZOFFSETTO:-0800
END:STANDARD
BEGIN:DAYLIGHT
DTSTART:20250309T020000Z
TZOFFSETFROM:-0800
TZOFFSETTO:-0700
END:DAYLIGHT
BEGIN:STANDARD
DTSTART:20251102T020000Z
TZOFFSETFROM:-0700
TZOFFSETTO:-0800
END:STANDARD
END:VTIMEZONE
BEGIN:VTIMEZONE
TZID:UTC
BEGIN:STANDARD
DTSTART:20250727T010520Z
TZOFFSETFROM:+0000
TZOFFSETTO:+0000
END:STANDARD
END:VTIMEZONE
BEGIN:VEVENT
UID:101-91
DTSTAMP:20260423T010520Z
SUMMARY:Dine-Out - Menchie's
LOCATION:Menchie\\'s Frozen Yogurt 133 S Las Posas Rd Suite 144  San Marcos
  CA 92078
ORGANIZER;CN=Nicole Collins:MAILTO:Nicole.collins@discoverypto.com
DTSTART;TZID=America/Los_Angeles;VALUE=DATE:20250611
DTEND;TZID=America/Los_Angeles;VALUE=DATE:20250612
X-ALT-DESC;FMTTYPE=TEXT/HTML:
CATEGORIES:Dine-Outs
URL;VALUE=URI:https://www.discoverypto.com/mc-events/dine-out-menchies/?mc_
 id=101
END:VEVENT
END:VCALENDAR